Workbook

Sheet PCC_MF_2022
B2: Plano de Contas Central (PCC) do Ministério das Finanças (MF) e correspondência entre as contas de movimento do PCC e as rubricas das demonstrações financeiras
B4: Código Conta | C4: Código Conta_ | D4: Grau 1 | E4: Grau 2 | F4: Grau 3 | G4: Grau 4 | H4: Grau 5 | I4: Grau 6 | J4: Descritivo | K4: Tipo | L4: Rubrica (BLC/DR) | M4: Sinal Rubrica
B5: 0 | J5: Contas da Contabilidade Orçamental
B6: =IF(PCC_MF_2022!I6<>"",PCC_MF_2022!D6&"."&PCC_MF_2022!E6&"."&PCC_MF_2022!F6&"."&PCC_MF_2022!G6&"."&PCC_MF_2022!H6&"."&PCC_MF_2022!I6,IF(PCC_MF_2022!H6<>"",PCC_MF_2022!D6&"."&PCC_MF_2022!E6&"."&PCC_MF_2022!F6&"."&PCC_MF_2022!G6&"."&PCC_MF_2022!H6, IF(PCC_MF_2022!G6<>"",PCC_MF_2022!D6&"."&PCC_MF_2022!E6&"."&PCC_MF_2022!F6&"."&PCC_MF_2022!G6,IF(PCC_MF_2022!F6<>"",PCC_MF_2022!D6&"."&PCC_MF_2022!E6&"."&PCC_MF_2022!F6,IF(PCC_MF_2022!E6<>"",PCC_MF_2022!D6&"."&PCC_MF_2022!E6,IF(PCC_MF_2022!D6="",LEFT(#REF!,1),PCC_MF_2022!D6)))))) -> 01 | C6: =IF(PCC_MF_2022!I6<>"",PCC_MF_2022!D6&""&PCC_MF_2022!E6&""&PCC_MF_2022!F6&""&PCC_MF_2022!G6&""&PCC_MF_2022!H6&""&PCC_MF_2022!I6,IF(PCC_MF_2022!H6<>"",PCC_MF_2022!D6&""&PCC_MF_2022!E6&""&PCC_MF_2022!F6&""&PCC_MF_2022!G6&""&PCC_MF_2022!H6, IF(PCC_MF_2022!G6<>"",PCC_MF_2022!D6&""&PCC_MF_2022!E6&""&PCC_MF_2022!F6&""&PCC_MF_2022!G6,IF(PCC_MF_2022!F6<>"",PCC_MF_2022!D6&""&PCC_MF_2022!E6&""&PCC_MF_2022!F6,IF(PCC_MF_2022!E6<>"",PCC_MF_2022!D6&""&PCC_MF_2022!E6,IF(PCC_MF_2022!D6="",LEFT(#REF!,1),PCC_MF_2022!D6)))))) -> 01 | D6: 01 | J6: Receita do período corrente | K6: A
B7: =IF(PCC_MF_2022!I7<>"",PCC_MF_2022!D7&"."&PCC_MF_2022!E7&"."&PCC_MF_2022!F7&"."&PCC_MF_2022!G7&"."&PCC_MF_2022!H7&"."&PCC_MF_2022!I7,IF(PCC_MF_2022!H7<>"",PCC_MF_2022!D7&"."&PCC_MF_2022!E7&"."&PCC_MF_2022!F7&"."&PCC_MF_2022!G7&"."&PCC_MF_2022!H7, IF(PCC_MF_2022!G7<>"",PCC_MF_2022!D7&"."&PCC_MF_2022!E7&"."&PCC_MF_2022!F7&"."&PCC_MF_2022!G7,IF(PCC_MF_2022!F7<>"",PCC_MF_2022!D7&"."&PCC_MF_2022!E7&"."&PCC_MF_2022!F7,IF(PCC_MF_2022!E7<>"",PCC_MF_2022!D7&"."&PCC_MF_2022!E7,IF(PCC_MF_2022!D7="",LEFT(#REF!,1),PCC_MF_2022!D7)))))) -> 01.1 | C7: =IF(PCC_MF_2022!I7<>"",PCC_MF_2022!D7&""&PCC_MF_2022!E7&""&PCC_MF_2022!F7&""&PCC_MF_2022!G7&""&PCC_MF_2022!H7&""&PCC_MF_2022!I7,IF(PCC_MF_2022!H7<>"",PCC_MF_2022!D7&""&PCC_MF_2022!E7&""&PCC_MF_2022!F7&""&PCC_MF_2022!G7&""&PCC_MF_2022!H7, IF(PCC_MF_2022!G7<>"",PCC_MF_2022!D7&""&PCC_MF_2022!E7&""&PCC_MF_2022!F7&""&PCC_MF_2022!G7,IF(PCC_MF_2022!F7<>"",PCC_MF_2022!D7&""&PCC_MF_2022!E7&""&PCC_MF_2022!F7,IF(PCC_MF_2022!E7<>"",PCC_MF_2022!D7&""&PCC_MF_2022!E7,IF(PCC_MF_2022!D7="",LEFT(#REF!,1),PCC_MF_2022!D7)))))) -> 011 | D7: 01 | E7: 1 | J7: Previsões iniciais | K7: M
B8: =IF(PCC_MF_2022!I8<>"",PCC_MF_2022!D8&"."&PCC_MF_2022!E8&"."&PCC_MF_2022!F8&"."&PCC_MF_2022!G8&"."&PCC_MF_2022!H8&"."&PCC_MF_2022!I8,IF(PCC_MF_2022!H8<>"",PCC_MF_2022!D8&"."&PCC_MF_2022!E8&"."&PCC_MF_2022!F8&"."&PCC_MF_2022!G8&"."&PCC_MF_2022!H8, IF(PCC_MF_2022!G8<>"",PCC_MF_2022!D8&"."&PCC_MF_2022!E8&"."&PCC_MF_2022!F8&"."&PCC_MF_2022!G8,IF(PCC_MF_2022!F8<>"",PCC_MF_2022!D8&"."&PCC_MF_2022!E8&"."&PCC_MF_2022!F8,IF(PCC_MF_2022!E8<>"",PCC_MF_2022!D8&"."&PCC_MF_2022!E8,IF(PCC_MF_2022!D8="",LEFT(#REF!,1),PCC_MF_2022!D8)))))) -> 01.2 | C8: =IF(PCC_MF_2022!I8<>"",PCC_MF_2022!D8&""&PCC_MF_2022!E8&""&PCC_MF_2022!F8&""&PCC_MF_2022!G8&""&PCC_MF_2022!H8&""&PCC_MF_2022!I8,IF(PCC_MF_2022!H8<>"",PCC_MF_2022!D8&""&PCC_MF_2022!E8&""&PCC_MF_2022!F8&""&PCC_MF_2022!G8&""&PCC_MF_2022!H8, IF(PCC_MF_2022!G8<>"",PCC_MF_2022!D8&""&PCC_MF_2022!E8&""&PCC_MF_2022!F8&""&PCC_MF_2022!G8,IF(PCC_MF_2022!F8<>"",PCC_MF_2022!D8&""&PCC_MF_2022!E8&""&PCC_MF_2022!F8,IF(PCC_MF_2022!E8<>"",PCC_MF_2022!D8&""&PCC_MF_2022!E8,IF(PCC_MF_2022!D8="",LEFT(#REF!,1),PCC_MF_2022!D8)))))) -> 012 | D8: 01 | E8: 2 | J8: Previsões corrigidas | K8: M
B9: =IF(PCC_MF_2022!I9<>"",PCC_MF_2022!D9&"."&PCC_MF_2022!E9&"."&PCC_MF_2022!F9&"."&PCC_MF_2022!G9&"."&PCC_MF_2022!H9&"."&PCC_MF_2022!I9,IF(PCC_MF_2022!H9<>"",PCC_MF_2022!D9&"."&PCC_MF_2022!E9&"."&PCC_MF_2022!F9&"."&PCC_MF_2022!G9&"."&PCC_MF_2022!H9, IF(PCC_MF_2022!G9<>"",PCC_MF_2022!D9&"."&PCC_MF_2022!E9&"."&PCC_MF_2022!F9&"."&PCC_MF_2022!G9,IF(PCC_MF_2022!F9<>"",PCC_MF_2022!D9&"."&PCC_MF_2022!E9&"."&PCC_MF_2022!F9,IF(PCC_MF_2022!E9<>"",PCC_MF_2022!D9&"."&PCC_MF_2022!E9,IF(PCC_MF_2022!D9="",LEFT(#REF!,1),PCC_MF_2022!D9)))))) -> 01.3 | C9: =IF(PCC_MF_2022!I9<>"",PCC_MF_2022!D9&""&PCC_MF_2022!E9&""&PCC_MF_2022!F9&""&PCC_MF_2022!G9&""&PCC_MF_2022!H9&""&PCC_MF_2022!I9,IF(PCC_MF_2022!H9<>"",PCC_MF_2022!D9&""&PCC_MF_2022!E9&""&PCC_MF_2022!F9&""&PCC_MF_2022!G9&""&PCC_MF_2022!H9, IF(PCC_MF_2022!G9<>"",PCC_MF_2022!D9&""&PCC_MF_2022!E9&""&PCC_MF_2022!F9&""&PCC_MF_2022!G9,IF(PCC_MF_2022!F9<>"",PCC_MF_2022!D9&""&PCC_MF_2022!E9&""&PCC_MF_2022!F9,IF(PCC_MF_2022!E9<>"",PCC_MF_2022!D9&""&PCC_MF_2022!E9,IF(PCC_MF_2022!D9="",LEFT(#REF!,1),PCC_MF_2022!D9)))))) -> 013 | D9: 01 | E9: 3 | J9: Alterações orçamentais | K9: A
B10: =IF(PCC_MF_2022!I10<>"",PCC_MF_2022!D10&"."&PCC_MF_2022!E10&"."&PCC_MF_2022!F10&"."&PCC_MF_2022!G10&"."&PCC_MF_2022!H10&"."&PCC_MF_2022!I10,IF(PCC_MF_2022!H10<>"",PCC_MF_2022!D10&"."&PCC_MF_2022!E10&"."&PCC_MF_2022!F10&"."&PCC_MF_2022!G10&"."&PCC_MF_2022!H10, IF(PCC_MF_2022!G10<>"",PCC_MF_2022!D10&"."&PCC_MF_2022!E10&"."&PCC_MF_2022!F10&"."&PCC_MF_2022!G10,IF(PCC_MF_2022!F10<>"",PCC_MF_2022!D10&"."&PCC_MF_2022!E10&"."&PCC_MF_2022!F10,IF(PCC_MF_2022!E10<>"",PCC_MF_2022!D10&"."&PCC_MF_2022!E10,IF(PCC_MF_2022!D10="",LEFT(#REF!,1),PCC_MF_2022!D10)))))) -> 01.3.1 | C10: =IF(PCC_MF_2022!I10<>"",PCC_MF_2022!D10&""&PCC_MF_2022!E10&""&PCC_MF_2022!F10&""&PCC_MF_2022!G10&""&PCC_MF_2022!H10&""&PCC_MF_2022!I10,IF(PCC_MF_2022!H10<>"",PCC_MF_2022!D10&""&PCC_MF_2022!E10&""&PCC_MF_2022!F10&""&PCC_MF_2022!G10&""&PCC_MF_2022!H10, IF(PCC_MF_2022!G10<>"",PCC_MF_2022!D10&""&PCC_MF_2022!E10&""&PCC_MF_2022!F10&""&PCC_MF_2022!G10,IF(PCC_MF_2022!F10<>"",PCC_MF_2022!D10&""&PCC_MF_2022!E10&""&PCC_MF_2022!F10,IF(PCC_MF_2022!E10<>"",PCC_MF_2022!D10&""&PCC_MF_2022!E10,IF(PCC_MF_2022!D10="",LEFT(#REF!,1),PCC_MF_2022!D10)))))) -> 0131 | D10: 01 | E10: 3 | F10: 1 | J10: Reforços | K10: A
B11: =IF(PCC_MF_2022!I11<>"",PCC_MF_2022!D11&"."&PCC_MF_2022!E11&"."&PCC_MF_2022!F11&"."&PCC_MF_2022!G11&"."&PCC_MF_2022!H11&"."&PCC_MF_2022!I11,IF(PCC_MF_2022!H11<>"",PCC_MF_2022!D11&"."&PCC_MF_2022!E11&"."&PCC_MF_2022!F11&"."&PCC_MF_2022!G11&"."&PCC_MF_2022!H11, IF(PCC_MF_2022!G11<>"",PCC_MF_2022!D11&"."&PCC_MF_2022!E11&"."&PCC_MF_2022!F11&"."&PCC_MF_2022!G11,IF(PCC_MF_2022!F11<>"",PCC_MF_2022!D11&"."&PCC_MF_2022!E11&"."&PCC_MF_2022!F11,IF(PCC_MF_2022!E11<>"",PCC_MF_2022!D11&"."&PCC_MF_2022!E11,IF(PCC_MF_2022!D11="",LEFT(#REF!,1),PCC_MF_2022!D11)))))) -> 01.3.1.1 | C11: =IF(PCC_MF_2022!I11<>"",PCC_MF_2022!D11&""&PCC_MF_2022!E11&""&PCC_MF_2022!F11&""&PCC_MF_2022!G11&""&PCC_MF_2022!H11&""&PCC_MF_2022!I11,IF(PCC_MF_2022!H11<>"",PCC_MF_2022!D11&""&PCC_MF_2022!E11&""&PCC_MF_2022!F11&""&PCC_MF_2022!G11&""&PCC_MF_2022!H11, IF(PCC_MF_2022!G11<>"",PCC_MF_2022!D11&""&PCC_MF_2022!E11&""&PCC_MF_2022!F11&""&PCC_MF_2022!G11,IF(PCC_MF_2022!F11<>"",PCC_MF_2022!D11&""&PCC_MF_2022!E11&""&PCC_MF_2022!F11,IF(PCC_MF_2022!E11<>"",PCC_MF_2022!D11&""&PCC_MF_2022!E11,IF(PCC_MF_2022!D11="",LEFT(#REF!,1),PCC_MF_2022!D11)))))) -> 01311 | D11: 01 | E11: 3 | F11: 1 | G11: 1 | J11: Reforços em previsões corrigidas | K11: M
B12: =IF(PCC_MF_2022!I12<>"",PCC_MF_2022!D12&"."&PCC_MF_2022!E12&"."&PCC_MF_2022!F12&"."&PCC_MF_2022!G12&"."&PCC_MF_2022!H12&"."&PCC_MF_2022!I12,IF(PCC_MF_2022!H12<>"",PCC_MF_2022!D12&"."&PCC_MF_2022!E12&"."&PCC_MF_2022!F12&"."&PCC_MF_2022!G12&"."&PCC_MF_2022!H12, IF(PCC_MF_2022!G12<>"",PCC_MF_2022!D12&"."&PCC_MF_2022!E12&"."&PCC_MF_2022!F12&"."&PCC_MF_2022!G12,IF(PCC_MF_2022!F12<>"",PCC_MF_2022!D12&"."&PCC_MF_2022!E12&"."&PCC_MF_2022!F12,IF(PCC_MF_2022!E12<>"",PCC_MF_2022!D12&"."&PCC_MF_2022!E12,IF(PCC_MF_2022!D12="",LEFT(#REF!,1),PCC_MF_2022!D12)))))) -> 01.3.1.2 | C12: =IF(PCC_MF_2022!I12<>"",PCC_MF_2022!D12&""&PCC_MF_2022!E12&""&PCC_MF_2022!F12&""&PCC_MF_2022!G12&""&PCC_MF_2022!H12&""&PCC_MF_2022!I12,IF(PCC_MF_2022!H12<>"",PCC_MF_2022!D12&""&PCC_MF_2022!E12&""&PCC_MF_2022!F12&""&PCC_MF_2022!G12&""&PCC_MF_2022!H12, IF(PCC_MF_2022!G12<>"",PCC_MF_2022!D12&""&PCC_MF_2022!E12&""&PCC_MF_2022!F12&""&PCC_MF_2022!G12,IF(PCC_MF_2022!F12<>"",PCC_MF_2022!D12&""&PCC_MF_2022!E12&""&PCC_MF_2022!F12,IF(PCC_MF_2022!E12<>"",PCC_MF_2022!D12&""&PCC_MF_2022!E12,IF(PCC_MF_2022!D12="",LEFT(#REF!,1),PCC_MF_2022!D12)))))) -> 01312 | D12: 01 | E12: 3 | F12: 1 | G12: 2 | J12: Reforços em previsões por liquidar | K12: M
B13: =IF(PCC_MF_2022!I13<>"",PCC_MF_2022!D13&"."&PCC_MF_2022!E13&"."&PCC_MF_2022!F13&"."&PCC_MF_2022!G13&"."&PCC_MF_2022!H13&"."&PCC_MF_2022!I13,IF(PCC_MF_2022!H13<>"",PCC_MF_2022!D13&"."&PCC_MF_2022!E13&"."&PCC_MF_2022!F13&"."&PCC_MF_2022!G13&"."&PCC_MF_2022!H13, IF(PCC_MF_2022!G13<>"",PCC_MF_2022!D13&"."&PCC_MF_2022!E13&"."&PCC_MF_2022!F13&"."&PCC_MF_2022!G13,IF(PCC_MF_2022!F13<>"",PCC_MF_2022!D13&"."&PCC_MF_2022!E13&"."&PCC_MF_2022!F13,IF(PCC_MF_2022!E13<>"",PCC_MF_2022!D13&"."&PCC_MF_2022!E13,IF(PCC_MF_2022!D13="",LEFT(#REF!,1),PCC_MF_2022!D13)))))) -> 01.3.2 | C13: =IF(PCC_MF_2022!I13<>"",PCC_MF_2022!D13&""&PCC_MF_2022!E13&""&PCC_MF_2022!F13&""&PCC_MF_2022!G13&""&PCC_MF_2022!H13&""&PCC_MF_2022!I13,IF(PCC_MF_2022!H13<>"",PCC_MF_2022!D13&""&PCC_MF_2022!E13&""&PCC_MF_2022!F13&""&PCC_MF_2022!G13&""&PCC_MF_2022!H13, IF(PCC_MF_2022!G13<>"",PCC_MF_2022!D13&""&PCC_MF_2022!E13&""&PCC_MF_2022!F13&""&PCC_MF_2022!G13,IF(PCC_MF_2022!F13<>"",PCC_MF_2022!D13&""&PCC_MF_2022!E13&""&PCC_MF_2022!F13,IF(PCC_MF_2022!E13<>"",PCC_MF_2022!D13&""&PCC_MF_2022!E13,IF(PCC_MF_2022!D13="",LEFT(#REF!,1),PCC_MF_2022!D13)))))) -> 0132 | D13: 01 | E13: 3 | F13: 2 | J13: Anulações | K13: A
B14: =IF(PCC_MF_2022!I14<>"",PCC_MF_2022!D14&"."&PCC_MF_2022!E14&"."&PCC_MF_2022!F14&"."&PCC_MF_2022!G14&"."&PCC_MF_2022!H14&"."&PCC_MF_2022!I14,IF(PCC_MF_2022!H14<>"",PCC_MF_2022!D14&"."&PCC_MF_2022!E14&"."&PCC_MF_2022!F14&"."&PCC_MF_2022!G14&"."&PCC_MF_2022!H14, IF(PCC_MF_2022!G14<>"",PCC_MF_2022!D14&"."&PCC_MF_2022!E14&"."&PCC_MF_2022!F14&"."&PCC_MF_2022!G14,IF(PCC_MF_2022!F14<>"",PCC_MF_2022!D14&"."&PCC_MF_2022!E14&"."&PCC_MF_2022!F14,IF(PCC_MF_2022!E14<>"",PCC_MF_2022!D14&"."&PCC_MF_2022!E14,IF(PCC_MF_2022!D14="",LEFT(#REF!,1),PCC_MF_2022!D14)))))) -> 01.3.2.1 | C14: =IF(PCC_MF_2022!I14<>"",PCC_MF_2022!D14&""&PCC_MF_2022!E14&""&PCC_MF_2022!F14&""&PCC_MF_2022!G14&""&PCC_MF_2022!H14&""&PCC_MF_2022!I14,IF(PCC_MF_2022!H14<>"",PCC_MF_2022!D14&""&PCC_MF_2022!E14&""&PCC_MF_2022!F14&""&PCC_MF_2022!G14&""&PCC_MF_2022!H14, IF(PCC_MF_2022!G14<>"",PCC_MF_2022!D14&""&PCC_MF_2022!E14&""&PCC_MF_2022!F14&""&PCC_MF_2022!G14,IF(PCC_MF_2022!F14<>"",PCC_MF_2022!D14&""&PCC_MF_2022!E14&""&PCC_MF_2022!F14,IF(PCC_MF_2022!E14<>"",PCC_MF_2022!D14&""&PCC_MF_2022!E14,IF(PCC_MF_2022!D14="",LEFT(#REF!,1),PCC_MF_2022!D14)))))) -> 01321 | D14: 01 | E14: 3 | F14: 2 | G14: 1 | J14: Anulações em previsões corrigidas | K14: M
B15: =IF(PCC_MF_2022!I15<>"",PCC_MF_2022!D15&"."&PCC_MF_2022!E15&"."&PCC_MF_2022!F15&"."&PCC_MF_2022!G15&"."&PCC_MF_2022!H15&"."&PCC_MF_2022!I15,IF(PCC_MF_2022!H15<>"",PCC_MF_2022!D15&"."&PCC_MF_2022!E15&"."&PCC_MF_2022!F15&"."&PCC_MF_2022!G15&"."&PCC_MF_2022!H15, IF(PCC_MF_2022!G15<>"",PCC_MF_2022!D15&"."&PCC_MF_2022!E15&"."&PCC_MF_2022!F15&"."&PCC_MF_2022!G15,IF(PCC_MF_2022!F15<>"",PCC_MF_2022!D15&"."&PCC_MF_2022!E15&"."&PCC_MF_2022!F15,IF(PCC_MF_2022!E15<>"",PCC_MF_2022!D15&"."&PCC_MF_2022!E15,IF(PCC_MF_2022!D15="",LEFT(#REF!,1),PCC_MF_2022!D15)))))) -> 01.3.2.2 | C15: =IF(PCC_MF_2022!I15<>"",PCC_MF_2022!D15&""&PCC_MF_2022!E15&""&PCC_MF_2022!F15&""&PCC_MF_2022!G15&""&PCC_MF_2022!H15&""&PCC_MF_2022!I15,IF(PCC_MF_2022!H15<>"",PCC_MF_2022!D15&""&PCC_MF_2022!E15&""&PCC_MF_2022!F15&""&PCC_MF_2022!G15&""&PCC_MF_2022!H15, IF(PCC_MF_2022!G15<>"",PCC_MF_2022!D15&""&PCC_MF_2022!E15&""&PCC_MF_2022!F15&""&PCC_MF_2022!G15,IF(PCC_MF_2022!F15<>"",PCC_MF_2022!D15&""&PCC_MF_2022!E15&""&PCC_MF_2022!F15,IF(PCC_MF_2022!E15<>"",PCC_MF_2022!D15&""&PCC_MF_2022!E15,IF(PCC_MF_2022!D15="",LEFT(#REF!,1),PCC_MF_2022!D15)))))) -> 01322 | D15: 01 | E15: 3 | F15: 2 | G15: 2 | J15: Anulações em previsões por liquidar | K15: M
B16: =IF(PCC_MF_2022!I16<>"",PCC_MF_2022!D16&"."&PCC_MF_2022!E16&"."&PCC_MF_2022!F16&"."&PCC_MF_2022!G16&"."&PCC_MF_2022!H16&"."&PCC_MF_2022!I16,IF(PCC_MF_2022!H16<>"",PCC_MF_2022!D16&"."&PCC_MF_2022!E16&"."&PCC_MF_2022!F16&"."&PCC_MF_2022!G16&"."&PCC_MF_2022!H16, IF(PCC_MF_2022!G16<>"",PCC_MF_2022!D16&"."&PCC_MF_2022!E16&"."&PCC_MF_2022!F16&"."&PCC_MF_2022!G16,IF(PCC_MF_2022!F16<>"",PCC_MF_2022!D16&"."&PCC_MF_2022!E16&"."&PCC_MF_2022!F16,IF(PCC_MF_2022!E16<>"",PCC_MF_2022!D16&"."&PCC_MF_2022!E16,IF(PCC_MF_2022!D16="",LEFT(#REF!,1),PCC_MF_2022!D16)))))) -> 01.3.3 | C16: =IF(PCC_MF_2022!I16<>"",PCC_MF_2022!D16&""&PCC_MF_2022!E16&""&PCC_MF_2022!F16&""&PCC_MF_2022!G16&""&PCC_MF_2022!H16&""&PCC_MF_2022!I16,IF(PCC_MF_2022!H16<>"",PCC_MF_2022!D16&""&PCC_MF_2022!E16&""&PCC_MF_2022!F16&""&PCC_MF_2022!G16&""&PCC_MF_2022!H16, IF(PCC_MF_2022!G16<>"",PCC_MF_2022!D16&""&PCC_MF_2022!E16&""&PCC_MF_2022!F16&""&PCC_MF_2022!G16,IF(PCC_MF_2022!F16<>"",PCC_MF_2022!D16&""&PCC_MF_2022!E16&""&PCC_MF_2022!F16,IF(PCC_MF_2022!E16<>"",PCC_MF_2022!D16&""&PCC_MF_2022!E16,IF(PCC_MF_2022!D16="",LEFT(#REF!,1),PCC_MF_2022!D16)))))) -> 0133 | D16: 01 | E16: 3 | F16: 3 | J16: Créditos especiais | K16: A
B17: =IF(PCC_MF_2022!I17<>"",PCC_MF_2022!D17&"."&PCC_MF_2022!E17&"."&PCC_MF_2022!F17&"."&PCC_MF_2022!G17&"."&PCC_MF_2022!H17&"."&PCC_MF_2022!I17,IF(PCC_MF_2022!H17<>"",PCC_MF_2022!D17&"."&PCC_MF_2022!E17&"."&PCC_MF_2022!F17&"."&PCC_MF_2022!G17&"."&PCC_MF_2022!H17, IF(PCC_MF_2022!G17<>"",PCC_MF_2022!D17&"."&PCC_MF_2022!E17&"."&PCC_MF_2022!F17&"."&PCC_MF_2022!G17,IF(PCC_MF_2022!F17<>"",PCC_MF_2022!D17&"."&PCC_MF_2022!E17&"."&PCC_MF_2022!F17,IF(PCC_MF_2022!E17<>"",PCC_MF_2022!D17&"."&PCC_MF_2022!E17,IF(PCC_MF_2022!D17="",LEFT(#REF!,1),PCC_MF_2022!D17)))))) -> 01.3.3.1 | C17: =IF(PCC_MF_2022!I17<>"",PCC_MF_2022!D17&""&PCC_MF_2022!E17&""&PCC_MF_2022!F17&""&PCC_MF_2022!G17&""&PCC_MF_2022!H17&""&PCC_MF_2022!I17,IF(PCC_MF_2022!H17<>"",PCC_MF_2022!D17&""&PCC_MF_2022!E17&""&PCC_MF_2022!F17&""&PCC_MF_2022!G17&""&PCC_MF_2022!H17, IF(PCC_MF_2022!G17<>"",PCC_MF_2022!D17&""&PCC_MF_2022!E17&""&PCC_MF_2022!F17&""&PCC_MF_2022!G17,IF(PCC_MF_2022!F17<>"",PCC_MF_2022!D17&""&PCC_MF_2022!E17&""&PCC_MF_2022!F17,IF(PCC_MF_2022!E17<>"",PCC_MF_2022!D17&""&PCC_MF_2022!E17,IF(PCC_MF_2022!D17="",LEFT(#REF!,1),PCC_MF_2022!D17)))))) -> 01331 | D17: 01 | E17: 3 | F17: 3 | G17: 1 | J17: Créditos especiais em previsões corrigidas | K17: M
B18: =IF(PCC_MF_2022!I18<>"",PCC_MF_2022!D18&"."&PCC_MF_2022!E18&"."&PCC_MF_2022!F18&"."&PCC_MF_2022!G18&"."&PCC_MF_2022!H18&"."&PCC_MF_2022!I18,IF(PCC_MF_2022!H18<>"",PCC_MF_2022!D18&"."&PCC_MF_2022!E18&"."&PCC_MF_2022!F18&"."&PCC_MF_2022!G18&"."&PCC_MF_2022!H18, IF(PCC_MF_2022!G18<>"",PCC_MF_2022!D18&"."&PCC_MF_2022!E18&"."&PCC_MF_2022!F18&"."&PCC_MF_2022!G18,IF(PCC_MF_2022!F18<>"",PCC_MF_2022!D18&"."&PCC_MF_2022!E18&"."&PCC_MF_2022!F18,IF(PCC_MF_2022!E18<>"",PCC_MF_2022!D18&"."&PCC_MF_2022!E18,IF(PCC_MF_2022!D18="",LEFT(#REF!,1),PCC_MF_2022!D18)))))) -> 01.3.3.2 | C18: =IF(PCC_MF_2022!I18<>"",PCC_MF_2022!D18&""&PCC_MF_2022!E18&""&PCC_MF_2022!F18&""&PCC_MF_2022!G18&""&PCC_MF_2022!H18&""&PCC_MF_2022!I18,IF(PCC_MF_2022!H18<>"",PCC_MF_2022!D18&""&PCC_MF_2022!E18&""&PCC_MF_2022!F18&""&PCC_MF_2022!G18&""&PCC_MF_2022!H18, IF(PCC_MF_2022!G18<>"",PCC_MF_2022!D18&""&PCC_MF_2022!E18&""&PCC_MF_2022!F18&""&PCC_MF_2022!G18,IF(PCC_MF_2022!F18<>"",PCC_MF_2022!D18&""&PCC_MF_2022!E18&""&PCC_MF_2022!F18,IF(PCC_MF_2022!E18<>"",PCC_MF_2022!D18&""&PCC_MF_2022!E18,IF(PCC_MF_2022!D18="",LEFT(#REF!,1),PCC_MF_2022!D18)))))) -> 01332 | D18: 01 | E18: 3 | F18: 3 | G18: 2 | J18: Créditos especiais em previsões por liquidar | K18: M
B19: =IF(PCC_MF_2022!I19<>"",PCC_MF_2022!D19&"."&PCC_MF_2022!E19&"."&PCC_MF_2022!F19&"."&PCC_MF_2022!G19&"."&PCC_MF_2022!H19&"."&PCC_MF_2022!I19,IF(PCC_MF_2022!H19<>"",PCC_MF_2022!D19&"."&PCC_MF_2022!E19&"."&PCC_MF_2022!F19&"."&PCC_MF_2022!G19&"."&PCC_MF_2022!H19, IF(PCC_MF_2022!G19<>"",PCC_MF_2022!D19&"."&PCC_MF_2022!E19&"."&PCC_MF_2022!F19&"."&PCC_MF_2022!G19,IF(PCC_MF_2022!F19<>"",PCC_MF_2022!D19&"."&PCC_MF_2022!E19&"."&PCC_MF_2022!F19,IF(PCC_MF_2022!E19<>"",PCC_MF_2022!D19&"."&PCC_MF_2022!E19,IF(PCC_MF_2022!D19="",LEFT(#REF!,1),PCC_MF_2022!D19)))))) -> 01.4 | C19: =IF(PCC_MF_2022!I19<>"",PCC_MF_2022!D19&""&PCC_MF_2022!E19&""&PCC_MF_2022!F19&""&PCC_MF_2022!G19&""&PCC_MF_2022!H19&""&PCC_MF_2022!I19,IF(PCC_MF_2022!H19<>"",PCC_MF_2022!D19&""&PCC_MF_2022!E19&""&PCC_MF_2022!F19&""&PCC_MF_2022!G19&""&PCC_MF_2022!H19, IF(PCC_MF_2022!G19<>"",PCC_MF_2022!D19&""&PCC_MF_2022!E19&""&PCC_MF_2022!F19&""&PCC_MF_2022!G19,IF(PCC_MF_2022!F19<>"",PCC_MF_2022!D19&""&PCC_MF_2022!E19&""&PCC_MF_2022!F19,IF(PCC_MF_2022!E19<>"",PCC_MF_2022!D19&""&PCC_MF_2022!E19,IF(PCC_MF_2022!D19="",LEFT(#REF!,1),PCC_MF_2022!D19)))))) -> 014 | D19: 01 | E19: 4 | J19: Previsões por liquidar | K19: M
B20: =IF(PCC_MF_2022!I20<>"",PCC_MF_2022!D20&"."&PCC_MF_2022!E20&"."&PCC_MF_2022!F20&"."&PCC_MF_2022!G20&"."&PCC_MF_2022!H20&"."&PCC_MF_2022!I20,IF(PCC_MF_2022!H20<>"",PCC_MF_2022!D20&"."&PCC_MF_2022!E20&"."&PCC_MF_2022!F20&"."&PCC_MF_2022!G20&"."&PCC_MF_2022!H20, IF(PCC_MF_2022!G20<>"",PCC_MF_2022!D20&"."&PCC_MF_2022!E20&"."&PCC_MF_2022!F20&"."&PCC_MF_2022!G20,IF(PCC_MF_2022!F20<>"",PCC_MF_2022!D20&"."&PCC_MF_2022!E20&"."&PCC_MF_2022!F20,IF(PCC_MF_2022!E20<>"",PCC_MF_2022!D20&"."&PCC_MF_2022!E20,IF(PCC_MF_2022!D20="",LEFT(#REF!,1),PCC_MF_2022!D20)))))) -> 01.5 | C20: =IF(PCC_MF_2022!I20<>"",PCC_MF_2022!D20&""&PCC_MF_2022!E20&""&PCC_MF_2022!F20&""&PCC_MF_2022!G20&""&PCC_MF_2022!H20&""&PCC_MF_2022!I20,IF(PCC_MF_2022!H20<>"",PCC_MF_2022!D20&""&PCC_MF_2022!E20&""&PCC_MF_2022!F20&""&PCC_MF_2022!G20&""&PCC_MF_2022!H20, IF(PCC_MF_2022!G20<>"",PCC_MF_2022!D20&""&PCC_MF_2022!E20&""&PCC_MF_2022!F20&""&PCC_MF_2022!G20,IF(PCC_MF_2022!F20<>"",PCC_MF_2022!D20&""&PCC_MF_2022!E20&""&PCC_MF_2022!F20,IF(PCC_MF_2022!E20<>"",PCC_MF_2022!D20&""&PCC_MF_2022!E20,IF(PCC_MF_2022!D20="",LEFT(#REF!,1),PCC_MF_2022!D20)))))) -> 015 | D20: 01 | E20: 5 | J20: Liquidações | K20: A
B21: =IF(PCC_MF_2022!I21<>"",PCC_MF_2022!D21&"."&PCC_MF_2022!E21&"."&PCC_MF_2022!F21&"."&PCC_MF_2022!G21&"."&PCC_MF_2022!H21&"."&PCC_MF_2022!I21,IF(PCC_MF_2022!H21<>"",PCC_MF_2022!D21&"."&PCC_MF_2022!E21&"."&PCC_MF_2022!F21&"."&PCC_MF_2022!G21&"."&PCC_MF_2022!H21, IF(PCC_MF_2022!G21<>"",PCC_MF_2022!D21&"."&PCC_MF_2022!E21&"."&PCC_MF_2022!F21&"."&PCC_MF_2022!G21,IF(PCC_MF_2022!F21<>"",PCC_MF_2022!D21&"."&PCC_MF_2022!E21&"."&PCC_MF_2022!F21,IF(PCC_MF_2022!E21<>"",PCC_MF_2022!D21&"."&PCC_MF_2022!E21,IF(PCC_MF_2022!D21="",LEFT(#REF!,1),PCC_MF_2022!D21)))))) -> 01.5.1 | C21: =IF(PCC_MF_2022!I21<>"",PCC_MF_2022!D21&""&PCC_MF_2022!E21&""&PCC_MF_2022!F21&""&PCC_MF_2022!G21&""&PCC_MF_2022!H21&""&PCC_MF_2022!I21,IF(PCC_MF_2022!H21<>"",PCC_MF_2022!D21&""&PCC_MF_2022!E21&""&PCC_MF_2022!F21&""&PCC_MF_2022!G21&""&PCC_MF_2022!H21, IF(PCC_MF_2022!G21<>"",PCC_MF_2022!D21&""&PCC_MF_2022!E21&""&PCC_MF_2022!F21&""&PCC_MF_2022!G21,IF(PCC_MF_2022!F21<>"",PCC_MF_2022!D21&""&PCC_MF_2022!E21&""&PCC_MF_2022!F21,IF(PCC_MF_2022!E21<>"",PCC_MF_2022!D21&""&PCC_MF_2022!E21,IF(PCC_MF_2022!D21="",LEFT(#REF!,1),PCC_MF_2022!D21)))))) -> 0151 | D21: 01 | E21: 5 | F21: 1 | J21: Liquidações transitadas | K21: M
B22: =IF(PCC_MF_2022!I22<>"",PCC_MF_2022!D22&"."&PCC_MF_2022!E22&"."&PCC_MF_2022!F22&"."&PCC_MF_2022!G22&"."&PCC_MF_2022!H22&"."&PCC_MF_2022!I22,IF(PCC_MF_2022!H22<>"",PCC_MF_2022!D22&"."&PCC_MF_2022!E22&"."&PCC_MF_2022!F22&"."&PCC_MF_2022!G22&"."&PCC_MF_2022!H22, IF(PCC_MF_2022!G22<>"",PCC_MF_2022!D22&"."&PCC_MF_2022!E22&"."&PCC_MF_2022!F22&"."&PCC_MF_2022!G22,IF(PCC_MF_2022!F22<>"",PCC_MF_2022!D22&"."&PCC_MF_2022!E22&"."&PCC_MF_2022!F22,IF(PCC_MF_2022!E22<>"",PCC_MF_2022!D22&"."&PCC_MF_2022!E22,IF(PCC_MF_2022!D22="",LEFT(#REF!,1),PCC_MF_2022!D22)))))) -> 01.5.2 | C22: =IF(PCC_MF_2022!I22<>"",PCC_MF_2022!D22&""&PCC_MF_2022!E22&""&PCC_MF_2022!F22&""&PCC_MF_2022!G22&""&PCC_MF_2022!H22&""&PCC_MF_2022!I22,IF(PCC_MF_2022!H22<>"",PCC_MF_2022!D22&""&PCC_MF_2022!E22&""&PCC_MF_2022!F22&""&PCC_MF_2022!G22&""&PCC_MF_2022!H22, IF(PCC_MF_2022!G22<>"",PCC_MF_2022!D22&""&PCC_MF_2022!E22&""&PCC_MF_2022!F22&""&PCC_MF_2022!G22,IF(PCC_MF_2022!F22<>"",PCC_MF_2022!D22&""&PCC_MF_2022!E22&""&PCC_MF_2022!F22,IF(PCC_MF_2022!E22<>"",PCC_MF_2022!D22&""&PCC_MF_2022!E22,IF(PCC_MF_2022!D22="",LEFT(#REF!,1),PCC_MF_2022!D22)))))) -> 0152 | D22: 01 | E22: 5 | F22: 2 | J22: Liquidações emitidas | K22: M
B23: =IF(PCC_MF_2022!I23<>"",PCC_MF_2022!D23&"."&PCC_MF_2022!E23&"."&PCC_MF_2022!F23&"."&PCC_MF_2022!G23&"."&PCC_MF_2022!H23&"."&PCC_MF_2022!I23,IF(PCC_MF_2022!H23<>"",PCC_MF_2022!D23&"."&PCC_MF_2022!E23&"."&PCC_MF_2022!F23&"."&PCC_MF_2022!G23&"."&PCC_MF_2022!H23, IF(PCC_MF_2022!G23<>"",PCC_MF_2022!D23&"."&PCC_MF_2022!E23&"."&PCC_MF_2022!F23&"."&PCC_MF_2022!G23,IF(PCC_MF_2022!F23<>"",PCC_MF_2022!D23&"."&PCC_MF_2022!E23&"."&PCC_MF_2022!F23,IF(PCC_MF_2022!E23<>"",PCC_MF_2022!D23&"."&PCC_MF_2022!E23,IF(PCC_MF_2022!D23="",LEFT(#REF!,1),PCC_MF_2022!D23)))))) -> 01.5.3 | C23: =IF(PCC_MF_2022!I23<>"",PCC_MF_2022!D23&""&PCC_MF_2022!E23&""&PCC_MF_2022!F23&""&PCC_MF_2022!G23&""&PCC_MF_2022!H23&""&PCC_MF_2022!I23,IF(PCC_MF_2022!H23<>"",PCC_MF_2022!D23&""&PCC_MF_2022!E23&""&PCC_MF_2022!F23&""&PCC_MF_2022!G23&""&PCC_MF_2022!H23, IF(PCC_MF_2022!G23<>"",PCC_MF_2022!D23&""&PCC_MF_2022!E23&""&PCC_MF_2022!F23&""&PCC_MF_2022!G23,IF(PCC_MF_2022!F23<>"",PCC_MF_2022!D23&""&PCC_MF_2022!E23&""&PCC_MF_2022!F23,IF(PCC_MF_2022!E23<>"",PCC_MF_2022!D23&""&PCC_MF_2022!E23,IF(PCC_MF_2022!D23="",LEFT(#REF!,1),PCC_MF_2022!D23)))))) -> 0153 | D23: 01 | E23: 5 | F23: 3 | J23: Liquidações recebidas | K23: M
B24: =IF(PCC_MF_2022!I24<>"",PCC_MF_2022!D24&"."&PCC_MF_2022!E24&"."&PCC_MF_2022!F24&"."&PCC_MF_2022!G24&"."&PCC_MF_2022!H24&"."&PCC_MF_2022!I24,IF(PCC_MF_2022!H24<>"",PCC_MF_2022!D24&"."&PCC_MF_2022!E24&"."&PCC_MF_2022!F24&"."&PCC_MF_2022!G24&"."&PCC_MF_2022!H24, IF(PCC_MF_2022!G24<>"",PCC_MF_2022!D24&"."&PCC_MF_2022!E24&"."&PCC_MF_2022!F24&"."&PCC_MF_2022!G24,IF(PCC_MF_2022!F24<>"",PCC_MF_2022!D24&"."&PCC_MF_2022!E24&"."&PCC_MF_2022!F24,IF(PCC_MF_2022!E24<>"",PCC_MF_2022!D24&"."&PCC_MF_2022!E24,IF(PCC_MF_2022!D24="",LEFT(#REF!,1),PCC_MF_2022!D24)))))) -> 01.5.4 | C24: =IF(PCC_MF_2022!I24<>"",PCC_MF_2022!D24&""&PCC_MF_2022!E24&""&PCC_MF_2022!F24&""&PCC_MF_2022!G24&""&PCC_MF_2022!H24&""&PCC_MF_2022!I24,IF(PCC_MF_2022!H24<>"",PCC_MF_2022!D24&""&PCC_MF_2022!E24&""&PCC_MF_2022!F24&""&PCC_MF_2022!G24&""&PCC_MF_2022!H24, IF(PCC_MF_2022!G24<>"",PCC_MF_2022!D24&""&PCC_MF_2022!E24&""&PCC_MF_2022!F24&""&PCC_MF_2022!G24,IF(PCC_MF_2022!F24<>"",PCC_MF_2022!D24&""&PCC_MF_2022!E24&""&PCC_MF_2022!F24,IF(PCC_MF_2022!E24<>"",PCC_MF_2022!D24&""&PCC_MF_2022!E24,IF(PCC_MF_2022!D24="",LEFT(#REF!,1),PCC_MF_2022!D24)))))) -> 0154 | D24: 01 | E24: 5 | F24: 4 | J24: Liquidações a transitar | K24: M
B25: =IF(PCC_MF_2022!I25<>"",PCC_MF_2022!D25&"."&PCC_MF_2022!E25&"."&PCC_MF_2022!F25&"."&PCC_MF_2022!G25&"."&PCC_MF_2022!H25&"."&PCC_MF_2022!I25,IF(PCC_MF_2022!H25<>"",PCC_MF_2022!D25&"."&PCC_MF_2022!E25&"."&PCC_MF_2022!F25&"."&PCC_MF_2022!G25&"."&PCC_MF_2022!H25, IF(PCC_MF_2022!G25<>"",PCC_MF_2022!D25&"."&PCC_MF_2022!E25&"."&PCC_MF_2022!F25&"."&PCC_MF_2022!G25,IF(PCC_MF_2022!F25<>"",PCC_MF_2022!D25&"."&PCC_MF_2022!E25&"."&PCC_MF_2022!F25,IF(PCC_MF_2022!E25<>"",PCC_MF_2022!D25&"."&PCC_MF_2022!E25,IF(PCC_MF_2022!D25="",LEFT(#REF!,1),PCC_MF_2022!D25)))))) -> 01.6 | C25: =IF(PCC_MF_2022!I25<>"",PCC_MF_2022!D25&""&PCC_MF_2022!E25&""&PCC_MF_2022!F25&""&PCC_MF_2022!G25&""&PCC_MF_2022!H25&""&PCC_MF_2022!I25,IF(PCC_MF_2022!H25<>"",PCC_MF_2022!D25&""&PCC_MF_2022!E25&""&PCC_MF_2022!F25&""&PCC_MF_2022!G25&""&PCC_MF_2022!H25, IF(PCC_MF_2022!G25<>"",PCC_MF_2022!D25&""&PCC_MF_2022!E25&""&PCC_MF_2022!F25&""&PCC_MF_2022!G25,IF(PCC_MF_2022!F25<>"",PCC_MF_2022!D25&""&PCC_MF_2022!E25&""&PCC_MF_2022!F25,IF(PCC_MF_2022!E25<>"",PCC_MF_2022!D25&""&PCC_MF_2022!E25,IF(PCC_MF_2022!D25="",LEFT(#REF!,1),PCC_MF_2022!D25)))))) -> 016 | D25: 01 | E25: 6 | J25: Liquidações anuladas | K25: A
B26: =IF(PCC_MF_2022!I26<>"",PCC_MF_2022!D26&"."&PCC_MF_2022!E26&"."&PCC_MF_2022!F26&"."&PCC_MF_2022!G26&"."&PCC_MF_2022!H26&"."&PCC_MF_2022!I26,IF(PCC_MF_2022!H26<>"",PCC_MF_2022!D26&"."&PCC_MF_2022!E26&"."&PCC_MF_2022!F26&"."&PCC_MF_2022!G26&"."&PCC_MF_2022!H26, IF(PCC_MF_2022!G26<>"",PCC_MF_2022!D26&"."&PCC_MF_2022!E26&"."&PCC_MF_2022!F26&"."&PCC_MF_2022!G26,IF(PCC_MF_2022!F26<>"",PCC_MF_2022!D26&"."&PCC_MF_2022!E26&"."&PCC_MF_2022!F26,IF(PCC_MF_2022!E26<>"",PCC_MF_2022!D26&"."&PCC_MF_2022!E26,IF(PCC_MF_2022!D26="",LEFT(#REF!,1),PCC_MF_2022!D26)))))) -> 01.6.1 | C26: =IF(PCC_MF_2022!I26<>"",PCC_MF_2022!D26&""&PCC_MF_2022!E26&""&PCC_MF_2022!F26&""&PCC_MF_2022!G26&""&PCC_MF_2022!H26&""&PCC_MF_2022!I26,IF(PCC_MF_2022!H26<>"",PCC_MF_2022!D26&""&PCC_MF_2022!E26&""&PCC_MF_2022!F26&""&PCC_MF_2022!G26&""&PCC_MF_2022!H26, IF(PCC_MF_2022!G26<>"",PCC_MF_2022!D26&""&PCC_MF_2022!E26&""&PCC_MF_2022!F26&""&PCC_MF_2022!G26,IF(PCC_MF_2022!F26<>"",PCC_MF_2022!D26&""&PCC_MF_2022!E26&""&PCC_MF_2022!F26,IF(PCC_MF_2022!E26<>"",PCC_MF_2022!D26&""&PCC_MF_2022!E26,IF(PCC_MF_2022!D26="",LEFT(#REF!,1),PCC_MF_2022!D26)))))) -> 0161 | D26: 01 | E26: 6 | F26: 1 | J26: Liquidações transitadas anuladas | K26: M
B27: =IF(PCC_MF_2022!I27<>"",PCC_MF_2022!D27&"."&PCC_MF_2022!E27&"."&PCC_MF_2022!F27&"."&PCC_MF_2022!G27&"."&PCC_MF_2022!H27&"."&PCC_MF_2022!I27,IF(PCC_MF_2022!H27<>"",PCC_MF_2022!D27&"."&PCC_MF_2022!E27&"."&PCC_MF_2022!F27&"."&PCC_MF_2022!G27&"."&PCC_MF_2022!H27, IF(PCC_MF_2022!G27<>"",PCC_MF_2022!D27&"."&PCC_MF_2022!E27&"."&PCC_MF_2022!F27&"."&PCC_MF_2022!G27,IF(PCC_MF_2022!F27<>"",PCC_MF_2022!D27&"."&PCC_MF_2022!E27&"."&PCC_MF_2022!F27,IF(PCC_MF_2022!E27<>"",PCC_MF_2022!D27&"."&PCC_MF_2022!E27,IF(PCC_MF_2022!D27="",LEFT(#REF!,1),PCC_MF_2022!D27)))))) -> 01.6.2 | C27: =IF(PCC_MF_2022!I27<>"",PCC_MF_2022!D27&""&PCC_MF_2022!E27&""&PCC_MF_2022!F27&""&PCC_MF_2022!G27&""&PCC_MF_2022!H27&""&PCC_MF_2022!I27,IF(PCC_MF_2022!H27<>"",PCC_MF_2022!D27&""&PCC_MF_2022!E27&""&PCC_MF_2022!F27&""&PCC_MF_2022!G27&""&PCC_MF_2022!H27, IF(PCC_MF_2022!G27<>"",PCC_MF_2022!D27&""&PCC_MF_2022!E27&""&PCC_MF_2022!F27&""&PCC_MF_2022!G27,IF(PCC_MF_2022!F27<>"",PCC_MF_2022!D27&""&PCC_MF_2022!E27&""&PCC_MF_2022!F27,IF(PCC_MF_2022!E27<>"",PCC_MF_2022!D27&""&PCC_MF_2022!E27,IF(PCC_MF_2022!D27="",LEFT(#REF!,1),PCC_MF_2022!D27)))))) -> 0162 | D27: 01 | E27: 6 | F27: 2 | J27: Liquidações emitidas anuladas | K27: M
B28: =IF(PCC_MF_2022!I28<>"",PCC_MF_2022!D28&"."&PCC_MF_2022!E28&"."&PCC_MF_2022!F28&"."&PCC_MF_2022!G28&"."&PCC_MF_2022!H28&"."&PCC_MF_2022!I28,IF(PCC_MF_2022!H28<>"",PCC_MF_2022!D28&"."&PCC_MF_2022!E28&"."&PCC_MF_2022!F28&"."&PCC_MF_2022!G28&"."&PCC_MF_2022!H28, IF(PCC_MF_2022!G28<>"",PCC_MF_2022!D28&"."&PCC_MF_2022!E28&"."&PCC_MF_2022!F28&"."&PCC_MF_2022!G28,IF(PCC_MF_2022!F28<>"",PCC_MF_2022!D28&"."&PCC_MF_2022!E28&"."&PCC_MF_2022!F28,IF(PCC_MF_2022!E28<>"",PCC_MF_2022!D28&"."&PCC_MF_2022!E28,IF(PCC_MF_2022!D28="",LEFT(#REF!,1),PCC_MF_2022!D28)))))) -> 01.6.3 | C28: =IF(PCC_MF_2022!I28<>"",PCC_MF_2022!D28&""&PCC_MF_2022!E28&""&PCC_MF_2022!F28&""&PCC_MF_2022!G28&""&PCC_MF_2022!H28&""&PCC_MF_2022!I28,IF(PCC_MF_2022!H28<>"",PCC_MF_2022!D28&""&PCC_MF_2022!E28&""&PCC_MF_2022!F28&""&PCC_MF_2022!G28&""&PCC_MF_2022!H28, IF(PCC_MF_2022!G28<>"",PCC_MF_2022!D28&""&PCC_MF_2022!E28&""&PCC_MF_2022!F28&""&PCC_MF_2022!G28,IF(PCC_MF_2022!F28<>"",PCC_MF_2022!D28&""&PCC_MF_2022!E28&""&PCC_MF_2022!F28,IF(PCC_MF_2022!E28<>"",PCC_MF_2022!D28&""&PCC_MF_2022!E28,IF(PCC_MF_2022!D28="",LEFT(#REF!,1),PCC_MF_2022!D28)))))) -> 0163 | D28: 01 | E28: 6 | F28: 3 | J28: Previsões por liquidar anuladas | K28: M
B29: =IF(PCC_MF_2022!I29<>"",PCC_MF_2022!D29&"."&PCC_MF_2022!E29&"."&PCC_MF_2022!F29&"."&PCC_MF_2022!G29&"."&PCC_MF_2022!H29&"."&PCC_MF_2022!I29,IF(PCC_MF_2022!H29<>"",PCC_MF_2022!D29&"."&PCC_MF_2022!E29&"."&PCC_MF_2022!F29&"."&PCC_MF_2022!G29&"."&PCC_MF_2022!H29, IF(PCC_MF_2022!G29<>"",PCC_MF_2022!D29&"."&PCC_MF_2022!E29&"."&PCC_MF_2022!F29&"."&PCC_MF_2022!G29,IF(PCC_MF_2022!F29<>"",PCC_MF_2022!D29&"."&PCC_MF_2022!E29&"."&PCC_MF_2022!F29,IF(PCC_MF_2022!E29<>"",PCC_MF_2022!D29&"."&PCC_MF_2022!E29,IF(PCC_MF_2022!D29="",LEFT(#REF!,1),PCC_MF_2022!D29)))))) -> 01.7 | C29: =IF(PCC_MF_2022!I29<>"",PCC_MF_2022!D29&""&PCC_MF_2022!E29&""&PCC_MF_2022!F29&""&PCC_MF_2022!G29&""&PCC_MF_2022!H29&""&PCC_MF_2022!I29,IF(PCC_MF_2022!H29<>"",PCC_MF_2022!D29&""&PCC_MF_2022!E29&""&PCC_MF_2022!F29&""&PCC_MF_2022!G29&""&PCC_MF_2022!H29, IF(PCC_MF_2022!G29<>"",PCC_MF_2022!D29&""&PCC_MF_2022!E29&""&PCC_MF_2022!F29&""&PCC_MF_2022!G29,IF(PCC_MF_2022!F29<>"",PCC_MF_2022!D29&""&PCC_MF_2022!E29&""&PCC_MF_2022!F29,IF(PCC_MF_2022!E29<>"",PCC_MF_2022!D29&""&PCC_MF_2022!E29,IF(PCC_MF_2022!D29="",LEFT(#REF!,1),PCC_MF_2022!D29)))))) -> 017 | D29: 01 | E29: 7 | J29: Recebimentos | K29: A
B30: =IF(PCC_MF_2022!I30<>"",PCC_MF_2022!D30&"."&PCC_MF_2022!E30&"."&PCC_MF_2022!F30&"."&PCC_MF_2022!G30&"."&PCC_MF_2022!H30&"."&PCC_MF_2022!I30,IF(PCC_MF_2022!H30<>"",PCC_MF_2022!D30&"."&PCC_MF_2022!E30&"."&PCC_MF_2022!F30&"."&PCC_MF_2022!G30&"."&PCC_MF_2022!H30, IF(PCC_MF_2022!G30<>"",PCC_MF_2022!D30&"."&PCC_MF_2022!E30&"."&PCC_MF_2022!F30&"."&PCC_MF_2022!G30,IF(PCC_MF_2022!F30<>"",PCC_MF_2022!D30&"."&PCC_MF_2022!E30&"."&PCC_MF_2022!F30,IF(PCC_MF_2022!E30<>"",PCC_MF_2022!D30&"."&PCC_MF_2022!E30,IF(PCC_MF_2022!D30="",LEFT(#REF!,1),PCC_MF_2022!D30)))))) -> 01.7.1 | C30: =IF(PCC_MF_2022!I30<>"",PCC_MF_2022!D30&""&PCC_MF_2022!E30&""&PCC_MF_2022!F30&""&PCC_MF_2022!G30&""&PCC_MF_2022!H30&""&PCC_MF_2022!I30,IF(PCC_MF_2022!H30<>"",PCC_MF_2022!D30&""&PCC_MF_2022!E30&""&PCC_MF_2022!F30&""&PCC_MF_2022!G30&""&PCC_MF_2022!H30, IF(PCC_MF_2022!G30<>"",PCC_MF_2022!D30&""&PCC_MF_2022!E30&""&PCC_MF_2022!F30&""&PCC_MF_2022!G30,IF(PCC_MF_2022!F30<>"",PCC_MF_2022!D30&""&PCC_MF_2022!E30&""&PCC_MF_2022!F30,IF(PCC_MF_2022!E30<>"",PCC_MF_2022!D30&""&PCC_MF_2022!E30,IF(PCC_MF_2022!D30="",LEFT(#REF!,1),PCC_MF_2022!D30)))))) -> 0171 | D30: 01 | E30: 7 | F30: 1 | J30: Recebimentos do período | K30: M
B31: =IF(PCC_MF_2022!I31<>"",PCC_MF_2022!D31&"."&PCC_MF_2022!E31&"."&PCC_MF_2022!F31&"."&PCC_MF_2022!G31&"."&PCC_MF_2022!H31&"."&PCC_MF_2022!I31,IF(PCC_MF_2022!H31<>"",PCC_MF_2022!D31&"."&PCC_MF_2022!E31&"."&PCC_MF_2022!F31&"."&PCC_MF_2022!G31&"."&PCC_MF_2022!H31, IF(PCC_MF_2022!G31<>"",PCC_MF_2022!D31&"."&PCC_MF_2022!E31&"."&PCC_MF_2022!F31&"."&PCC_MF_2022!G31,IF(PCC_MF_2022!F31<>"",PCC_MF_2022!D31&"."&PCC_MF_2022!E31&"."&PCC_MF_2022!F31,IF(PCC_MF_2022!E31<>"",PCC_MF_2022!D31&"."&PCC_MF_2022!E31,IF(PCC_MF_2022!D31="",LEFT(#REF!,1),PCC_MF_2022!D31)))))) -> 01.7.2 | C31: =IF(PCC_MF_2022!I31<>"",PCC_MF_2022!D31&""&PCC_MF_2022!E31&""&PCC_MF_2022!F31&""&PCC_MF_2022!G31&""&PCC_MF_2022!H31&""&PCC_MF_2022!I31,IF(PCC_MF_2022!H31<>"",PCC_MF_2022!D31&""&PCC_MF_2022!E31&""&PCC_MF_2022!F31&""&PCC_MF_2022!G31&""&PCC_MF_2022!H31, IF(PCC_MF_2022!G31<>"",PCC_MF_2022!D31&""&PCC_MF_2022!E31&""&PCC_MF_2022!F31&""&PCC_MF_2022!G31,IF(PCC_MF_2022!F31<>"",PCC_MF_2022!D31&""&PCC_MF_2022!E31&""&PCC_MF_2022!F31,IF(PCC_MF_2022!E31<>"",PCC_MF_2022!D31&""&PCC_MF_2022!E31,IF(PCC_MF_2022!D31="",LEFT(#REF!,1),PCC_MF_2022!D31)))))) -> 0172 | D31: 01 | E31: 7 | F31: 2 | J31: Recebimentos de períodos findos | K31: M
B32: =IF(PCC_MF_2022!I32<>"",PCC_MF_2022!D32&"."&PCC_MF_2022!E32&"."&PCC_MF_2022!F32&"."&PCC_MF_2022!G32&"."&PCC_MF_2022!H32&"."&PCC_MF_2022!I32,IF(PCC_MF_2022!H32<>"",PCC_MF_2022!D32&"."&PCC_MF_2022!E32&"."&PCC_MF_2022!F32&"."&PCC_MF_2022!G32&"."&PCC_MF_2022!H32, IF(PCC_MF_2022!G32<>"",PCC_MF_2022!D32&"."&PCC_MF_2022!E32&"."&PCC_MF_2022!F32&"."&PCC_MF_2022!G32,IF(PCC_MF_2022!F32<>"",PCC_MF_2022!D32&"."&PCC_MF_2022!E32&"."&PCC_MF_2022!F32,IF(PCC_MF_2022!E32<>"",PCC_MF_2022!D32&"."&PCC_MF_2022!E32,IF(PCC_MF_2022!D32="",LEFT(#REF!,1),PCC_MF_2022!D32)))))) -> 01.8 | C32: =IF(PCC_MF_2022!I32<>"",PCC_MF_2022!D32&""&PCC_MF_2022!E32&""&PCC_MF_2022!F32&""&PCC_MF_2022!G32&""&PCC_MF_2022!H32&""&PCC_MF_2022!I32,IF(PCC_MF_2022!H32<>"",PCC_MF_2022!D32&""&PCC_MF_2022!E32&""&PCC_MF_2022!F32&""&PCC_MF_2022!G32&""&PCC_MF_2022!H32, IF(PCC_MF_2022!G32<>"",PCC_MF_2022!D32&""&PCC_MF_2022!E32&""&PCC_MF_2022!F32&""&PCC_MF_2022!G32,IF(PCC_MF_2022!F32<>"",PCC_MF_2022!D32&""&PCC_MF_2022!E32&""&PCC_MF_2022!F32,IF(PCC_MF_2022!E32<>"",PCC_MF_2022!D32&""&PCC_MF_2022!E32,IF(PCC_MF_2022!D32="",LEFT(#REF!,1),PCC_MF_2022!D32)))))) -> 018 | D32: 01 | E32: 8 | J32: Reembolsos e restituições | K32: A
B33: =IF(PCC_MF_2022!I33<>"",PCC_MF_2022!D33&"."&PCC_MF_2022!E33&"."&PCC_MF_2022!F33&"."&PCC_MF_2022!G33&"."&PCC_MF_2022!H33&"."&PCC_MF_2022!I33,IF(PCC_MF_2022!H33<>"",PCC_MF_2022!D33&"."&PCC_MF_2022!E33&"."&PCC_MF_2022!F33&"."&PCC_MF_2022!G33&"."&PCC_MF_2022!H33, IF(PCC_MF_2022!G33<>"",PCC_MF_2022!D33&"."&PCC_MF_2022!E33&"."&PCC_MF_2022!F33&"."&PCC_MF_2022!G33,IF(PCC_MF_2022!F33<>"",PCC_MF_2022!D33&"."&PCC_MF_2022!E33&"."&PCC_MF_2022!F33,IF(PCC_MF_2022!E33<>"",PCC_MF_2022!D33&"."&PCC_MF_2022!E33,IF(PCC_MF_2022!D33="",LEFT(#REF!,1),PCC_MF_2022!D33)))))) -> 01.8.1 | C33: =IF(PCC_MF_2022!I33<>"",PCC_MF_2022!D33&""&PCC_MF_2022!E33&""&PCC_MF_2022!F33&""&PCC_MF_2022!G33&""&PCC_MF_2022!H33&""&PCC_MF_2022!I33,IF(PCC_MF_2022!H33<>"",PCC_MF_2022!D33&""&PCC_MF_2022!E33&""&PCC_MF_2022!F33&""&PCC_MF_2022!G33&""&PCC_MF_2022!H33, IF(PCC_MF_2022!G33<>"",PCC_MF_2022!D33&""&PCC_MF_2022!E33&""&PCC_MF_2022!F33&""&PCC_MF_2022!G33,IF(PCC_MF_2022!F33<>"",PCC_MF_2022!D33&""&PCC_MF_2022!E33&""&PCC_MF_2022!F33,IF(PCC_MF_2022!E33<>"",PCC_MF_2022!D33&""&PCC_MF_2022!E33,IF(PCC_MF_2022!D33="",LEFT(#REF!,1),PCC_MF_2022!D33)))))) -> 0181 | D33: 01 | E33: 8 | F33: 1 | J33: Reembolsos e restituições emitidos | K33: M
B34: =IF(PCC_MF_2022!I34<>"",PCC_MF_2022!D34&"."&PCC_MF_2022!E34&"."&PCC_MF_2022!F34&"."&PCC_MF_2022!G34&"."&PCC_MF_2022!H34&"."&PCC_MF_2022!I34,IF(PCC_MF_2022!H34<>"",PCC_MF_2022!D34&"."&PCC_MF_2022!E34&"."&PCC_MF_2022!F34&"."&PCC_MF_2022!G34&"."&PCC_MF_2022!H34, IF(PCC_MF_2022!G34<>"",PCC_MF_2022!D34&"."&PCC_MF_2022!E34&"."&PCC_MF_2022!F34&"."&PCC_MF_2022!G34,IF(PCC_MF_2022!F34<>"",PCC_MF_2022!D34&"."&PCC_MF_2022!E34&"."&PCC_MF_2022!F34,IF(PCC_MF_2022!E34<>"",PCC_MF_2022!D34&"."&PCC_MF_2022!E34,IF(PCC_MF_2022!D34="",LEFT(#REF!,1),PCC_MF_2022!D34)))))) -> 01.8.2 | C34: =IF(PCC_MF_2022!I34<>"",PCC_MF_2022!D34&""&PCC_MF_2022!E34&""&PCC_MF_2022!F34&""&PCC_MF_2022!G34&""&PCC_MF_2022!H34&""&PCC_MF_2022!I34,IF(PCC_MF_2022!H34<>"",PCC_MF_2022!D34&""&PCC_MF_2022!E34&""&PCC_MF_2022!F34&""&PCC_MF_2022!G34&""&PCC_MF_2022!H34, IF(PCC_MF_2022!G34<>"",PCC_MF_2022!D34&""&PCC_MF_2022!E34&""&PCC_MF_2022!F34&""&PCC_MF_2022!G34,IF(PCC_MF_2022!F34<>"",PCC_MF_2022!D34&""&PCC_MF_2022!E34&""&PCC_MF_2022!F34,IF(PCC_MF_2022!E34<>"",PCC_MF_2022!D34&""&PCC_MF_2022!E34,IF(PCC_MF_2022!D34="",LEFT(#REF!,1),PCC_MF_2022!D34)))))) -> 0182 | D34: 01 | E34: 8 | F34: 2 | J34: Reembolsos e restituições pagos | K34: M
B35: =IF(PCC_MF_2022!I35<>"",PCC_MF_2022!D35&"."&PCC_MF_2022!E35&"."&PCC_MF_2022!F35&"."&PCC_MF_2022!G35&"."&PCC_MF_2022!H35&"."&PCC_MF_2022!I35,IF(PCC_MF_2022!H35<>"",PCC_MF_2022!D35&"."&PCC_MF_2022!E35&"."&PCC_MF_2022!F35&"."&PCC_MF_2022!G35&"."&PCC_MF_2022!H35, IF(PCC_MF_2022!G35<>"",PCC_MF_2022!D35&"."&PCC_MF_2022!E35&"."&PCC_MF_2022!F35&"."&PCC_MF_2022!G35,IF(PCC_MF_2022!F35<>"",PCC_MF_2022!D35&"."&PCC_MF_2022!E35&"."&PCC_MF_2022!F35,IF(PCC_MF_2022!E35<>"",PCC_MF_2022!D35&"."&PCC_MF_2022!E35,IF(PCC_MF_2022!D35="",LEFT(#REF!,1),PCC_MF_2022!D35)))))) -> 01.8.3 | C35: =IF(PCC_MF_2022!I35<>"",PCC_MF_2022!D35&""&PCC_MF_2022!E35&""&PCC_MF_2022!F35&""&PCC_MF_2022!G35&""&PCC_MF_2022!H35&""&PCC_MF_2022!I35,IF(PCC_MF_2022!H35<>"",PCC_MF_2022!D35&""&PCC_MF_2022!E35&""&PCC_MF_2022!F35&""&PCC_MF_2022!G35&""&PCC_MF_2022!H35, IF(PCC_MF_2022!G35<>"",PCC_MF_2022!D35&""&PCC_MF_2022!E35&""&PCC_MF_2022!F35&""&PCC_MF_2022!G35,IF(PCC_MF_2022!F35<>"",PCC_MF_2022!D35&""&PCC_MF_2022!E35&""&PCC_MF_2022!F35,IF(PCC_MF_2022!E35<>"",PCC_MF_2022!D35&""&PCC_MF_2022!E35,IF(PCC_MF_2022!D35="",LEFT(#REF!,1),PCC_MF_2022!D35)))))) -> 0183 | D35: 01 | E35: 8 | F35: 3 | J35: Reembolsos e restituições transitados | K35: M
B36: =IF(PCC_MF_2022!I36<>"",PCC_MF_2022!D36&"."&PCC_MF_2022!E36&"."&PCC_MF_2022!F36&"."&PCC_MF_2022!G36&"."&PCC_MF_2022!H36&"."&PCC_MF_2022!I36,IF(PCC_MF_2022!H36<>"",PCC_MF_2022!D36&"."&PCC_MF_2022!E36&"."&PCC_MF_2022!F36&"."&PCC_MF_2022!G36&"."&PCC_MF_2022!H36, IF(PCC_MF_2022!G36<>"",PCC_MF_2022!D36&"."&PCC_MF_2022!E36&"."&PCC_MF_2022!F36&"."&PCC_MF_2022!G36,IF(PCC_MF_2022!F36<>"",PCC_MF_2022!D36&"."&PCC_MF_2022!E36&"."&PCC_MF_2022!F36,IF(PCC_MF_2022!E36<>"",PCC_MF_2022!D36&"."&PCC_MF_2022!E36,IF(PCC_MF_2022!D36="",LEFT(#REF!,1),PCC_MF_2022!D36)))))) -> 01.8.4 | C36: =IF(PCC_MF_2022!I36<>"",PCC_MF_2022!D36&""&PCC_MF_2022!E36&""&PCC_MF_2022!F36&""&PCC_MF_2022!G36&""&PCC_MF_2022!H36&""&PCC_MF_2022!I36,IF(PCC_MF_2022!H36<>"",PCC_MF_2022!D36&""&PCC_MF_2022!E36&""&PCC_MF_2022!F36&""&PCC_MF_2022!G36&""&PCC_MF_2022!H36, IF(PCC_MF_2022!G36<>"",PCC_MF_2022!D36&""&PCC_MF_2022!E36&""&PCC_MF_2022!F36&""&PCC_MF_2022!G36,IF(PCC_MF_2022!F36<>"",PCC_MF_2022!D36&""&PCC_MF_2022!E36&""&PCC_MF_2022!F36,IF(PCC_MF_2022!E36<>"",PCC_MF_2022!D36&""&PCC_MF_2022!E36,IF(PCC_MF_2022!D36="",LEFT(#REF!,1),PCC_MF_2022!D36)))))) -> 0184 | D36: 01 | E36: 8 | F36: 4 | J36: Reembolsos e restituições a transitar | K36: M
B37: =IF(PCC_MF_2022!I37<>"",PCC_MF_2022!D37&"."&PCC_MF_2022!E37&"."&PCC_MF_2022!F37&"."&PCC_MF_2022!G37&"."&PCC_MF_2022!H37&"."&PCC_MF_2022!I37,IF(PCC_MF_2022!H37<>"",PCC_MF_2022!D37&"."&PCC_MF_2022!E37&"."&PCC_MF_2022!F37&"."&PCC_MF_2022!G37&"."&PCC_MF_2022!H37, IF(PCC_MF_2022!G37<>"",PCC_MF_2022!D37&"."&PCC_MF_2022!E37&"."&PCC_MF_2022!F37&"."&PCC_MF_2022!G37,IF(PCC_MF_2022!F37<>"",PCC_MF_2022!D37&"."&PCC_MF_2022!E37&"."&PCC_MF_2022!F37,IF(PCC_MF_2022!E37<>"",PCC_MF_2022!D37&"."&PCC_MF_2022!E37,IF(PCC_MF_2022!D37="",LEFT(#REF!,1),PCC_MF_2022!D37)))))) -> 02 | C37: =IF(PCC_MF_2022!I37<>"",PCC_MF_2022!D37&""&PCC_MF_2022!E37&""&PCC_MF_2022!F37&""&PCC_MF_2022!G37&""&PCC_MF_2022!H37&""&PCC_MF_2022!I37,IF(PCC_MF_2022!H37<>"",PCC_MF_2022!D37&""&PCC_MF_2022!E37&""&PCC_MF_2022!F37&""&PCC_MF_2022!G37&""&PCC_MF_2022!H37, IF(PCC_MF_2022!G37<>"",PCC_MF_2022!D37&""&PCC_MF_2022!E37&""&PCC_MF_2022!F37&""&PCC_MF_2022!G37,IF(PCC_MF_2022!F37<>"",PCC_MF_2022!D37&""&PCC_MF_2022!E37&""&PCC_MF_2022!F37,IF(PCC_MF_2022!E37<>"",PCC_MF_2022!D37&""&PCC_MF_2022!E37,IF(PCC_MF_2022!D37="",LEFT(#REF!,1),PCC_MF_2022!D37)))))) -> 02 | D37: 02 | J37: Despesa do período corrente | K37: A
B38: =IF(PCC_MF_2022!I38<>"",PCC_MF_2022!D38&"."&PCC_MF_2022!E38&"."&PCC_MF_2022!F38&"."&PCC_MF_2022!G38&"."&PCC_MF_2022!H38&"."&PCC_MF_2022!I38,IF(PCC_MF_2022!H38<>"",PCC_MF_2022!D38&"."&PCC_MF_2022!E38&"."&PCC_MF_2022!F38&"."&PCC_MF_2022!G38&"."&PCC_MF_2022!H38, IF(PCC_MF_2022!G38<>"",PCC_MF_2022!D38&"."&PCC_MF_2022!E38&"."&PCC_MF_2022!F38&"."&PCC_MF_2022!G38,IF(PCC_MF_2022!F38<>"",PCC_MF_2022!D38&"."&PCC_MF_2022!E38&"."&PCC_MF_2022!F38,IF(PCC_MF_2022!E38<>"",PCC_MF_2022!D38&"."&PCC_MF_2022!E38,IF(PCC_MF_2022!D38="",LEFT(#REF!,1),PCC_MF_2022!D38)))))) -> 02.1 | C38: =IF(PCC_MF_2022!I38<>"",PCC_MF_2022!D38&""&PCC_MF_2022!E38&""&PCC_MF_2022!F38&""&PCC_MF_2022!G38&""&PCC_MF_2022!H38&""&PCC_MF_2022!I38,IF(PCC_MF_2022!H38<>"",PCC_MF_2022!D38&""&PCC_MF_2022!E38&""&PCC_MF_2022!F38&""&PCC_MF_2022!G38&""&PCC_MF_2022!H38, IF(PCC_MF_2022!G38<>"",PCC_MF_2022!D38&""&PCC_MF_2022!E38&""&PCC_MF_2022!F38&""&PCC_MF_2022!G38,IF(PCC_MF_2022!F38<>"",PCC_MF_2022!D38&""&PCC_MF_2022!E38&""&PCC_MF_2022!F38,IF(PCC_MF_2022!E38<>"",PCC_MF_2022!D38&""&PCC_MF_2022!E38,IF(PCC_MF_2022!D38="",LEFT(#REF!,1),PCC_MF_2022!D38)))))) -> 021 | D38: 02 | E38: 1 | J38: Dotações iniciais | K38: M
B39: =IF(PCC_MF_2022!I39<>"",PCC_MF_2022!D39&"."&PCC_MF_2022!E39&"."&PCC_MF_2022!F39&"."&PCC_MF_2022!G39&"."&PCC_MF_2022!H39&"."&PCC_MF_2022!I39,IF(PCC_MF_2022!H39<>"",PCC_MF_2022!D39&"."&PCC_MF_2022!E39&"."&PCC_MF_2022!F39&"."&PCC_MF_2022!G39&"."&PCC_MF_2022!H39, IF(PCC_MF_2022!G39<>"",PCC_MF_2022!D39&"."&PCC_MF_2022!E39&"."&PCC_MF_2022!F39&"."&PCC_MF_2022!G39,IF(PCC_MF_2022!F39<>"",PCC_MF_2022!D39&"."&PCC_MF_2022!E39&"."&PCC_MF_2022!F39,IF(PCC_MF_2022!E39<>"",PCC_MF_2022!D39&"."&PCC_MF_2022!E39,IF(PCC_MF_2022!D39="",LEFT(#REF!,1),PCC_MF_2022!D39)))))) -> 02.2 | C39: =IF(PCC_MF_2022!I39<>"",PCC_MF_2022!D39&""&PCC_MF_2022!E39&""&PCC_MF_2022!F39&""&PCC_MF_2022!G39&""&PCC_MF_2022!H39&""&PCC_MF_2022!I39,IF(PCC_MF_2022!H39<>"",PCC_MF_2022!D39&""&PCC_MF_2022!E39&""&PCC_MF_2022!F39&""&PCC_MF_2022!G39&""&PCC_MF_2022!H39, IF(PCC_MF_2022!G39<>"",PCC_MF_2022!D39&""&PCC_MF_2022!E39&""&PCC_MF_2022!F39&""&PCC_MF_2022!G39,IF(PCC_MF_2022!F39<>"",PCC_MF_2022!D39&""&PCC_MF_2022!E39&""&PCC_MF_2022!F39,IF(PCC_MF_2022!E39<>"",PCC_MF_2022!D39&""&PCC_MF_2022!E39,IF(PCC_MF_2022!D39="",LEFT(#REF!,1),PCC_MF_2022!D39)))))) -> 022 | D39: 02 | E39: 2 | J39: Dotações corrigidas | K39: M
B40: =IF(PCC_MF_2022!I40<>"",PCC_MF_2022!D40&"."&PCC_MF_2022!E40&"."&PCC_MF_2022!F40&"."&PCC_MF_2022!G40&"."&PCC_MF_2022!H40&"."&PCC_MF_2022!I40,IF(PCC_MF_2022!H40<>"",PCC_MF_2022!D40&"."&PCC_MF_2022!E40&"."&PCC_MF_2022!F40&"."&PCC_MF_2022!G40&"."&PCC_MF_2022!H40, IF(PCC_MF_2022!G40<>"",PCC_MF_2022!D40&"."&PCC_MF_2022!E40&"."&PCC_MF_2022!F40&"."&PCC_MF_2022!G40,IF(PCC_MF_2022!F40<>"",PCC_MF_2022!D40&"."&PCC_MF_2022!E40&"."&PCC_MF_2022!F40,IF(PCC_MF_2022!E40<>"",PCC_MF_2022!D40&"."&PCC_MF_2022!E40,IF(PCC_MF_2022!D40="",LEFT(#REF!,1),PCC_MF_2022!D40)))))) -> 02.3 | C40: =IF(PCC_MF_2022!I40<>"",PCC_MF_2022!D40&""&PCC_MF_2022!E40&""&PCC_MF_2022!F40&""&PCC_MF_2022!G40&""&PCC_MF_2022!H40&""&PCC_MF_2022!I40,IF(PCC_MF_2022!H40<>"",PCC_MF_2022!D40&""&PCC_MF_2022!E40&""&PCC_MF_2022!F40&""&PCC_MF_2022!G40&""&PCC_MF_2022!H40, IF(PCC_MF_2022!G40<>"",PCC_MF_2022!D40&""&PCC_MF_2022!E40&""&PCC_MF_2022!F40&""&PCC_MF_2022!G40,IF(PCC_MF_2022!F40<>"",PCC_MF_2022!D40&""&PCC_MF_2022!E40&""&PCC_MF_2022!F40,IF(PCC_MF_2022!E40<>"",PCC_MF_2022!D40&""&PCC_MF_2022!E40,IF(PCC_MF_2022!D40="",LEFT(#REF!,1),PCC_MF_2022!D40)))))) -> 023 | D40: 02 | E40: 3 | J40: Modificações orçamentais | K40: A
B41: =IF(PCC_MF_2022!I41<>"",PCC_MF_2022!D41&"."&PCC_MF_2022!E41&"."&PCC_MF_2022!F41&"."&PCC_MF_2022!G41&"."&PCC_MF_2022!H41&"."&PCC_MF_2022!I41,IF(PCC_MF_2022!H41<>"",PCC_MF_2022!D41&"."&PCC_MF_2022!E41&"."&PCC_MF_2022!F41&"."&PCC_MF_2022!G41&"."&PCC_MF_2022!H41, IF(PCC_MF_2022!G41<>"",PCC_MF_2022!D41&"."&PCC_MF_2022!E41&"."&PCC_MF_2022!F41&"."&PCC_MF_2022!G41,IF(PCC_MF_2022!F41<>"",PCC_MF_2022!D41&"."&PCC_MF_2022!E41&"."&PCC_MF_2022!F41,IF(PCC_MF_2022!E41<>"",PCC_MF_2022!D41&"."&PCC_MF_2022!E41,IF(PCC_MF_2022!D41="",LEFT(#REF!,1),PCC_MF_2022!D41)))))) -> 02.3.1 | C41: =IF(PCC_MF_2022!I41<>"",PCC_MF_2022!D41&""&PCC_MF_2022!E41&""&PCC_MF_2022!F41&""&PCC_MF_2022!G41&""&PCC_MF_2022!H41&""&PCC_MF_2022!I41,IF(PCC_MF_2022!H41<>"",PCC_MF_2022!D41&""&PCC_MF_2022!E41&""&PCC_MF_2022!F41&""&PCC_MF_2022!G41&""&PCC_MF_2022!H41, IF(PCC_MF_2022!G41<>"",PCC_MF_2022!D41&""&PCC_MF_2022!E41&""&PCC_MF_2022!F41&""&PCC_MF_2022!G41,IF(PCC_MF_2022!F41<>"",PCC_MF_2022!D41&""&PCC_MF_2022!E41&""&PCC_MF_2022!F41,IF(PCC_MF_2022!E41<>"",PCC_MF_2022!D41&""&PCC_MF_2022!E41,IF(PCC_MF_2022!D41="",LEFT(#REF!,1),PCC_MF_2022!D41)))))) -> 0231 | D41: 02 | E41: 3 | F41: 1 | J41: Reforços | K41: A
B42: =IF(PCC_MF_2022!I42<>"",PCC_MF_2022!D42&"."&PCC_MF_2022!E42&"."&PCC_MF_2022!F42&"."&PCC_MF_2022!G42&"."&PCC_MF_2022!H42&"."&PCC_MF_2022!I42,IF(PCC_MF_2022!H42<>"",PCC_MF_2022!D42&"."&PCC_MF_2022!E42&"."&PCC_MF_2022!F42&"."&PCC_MF_2022!G42&"."&PCC_MF_2022!H42, IF(PCC_MF_2022!G42<>"",PCC_MF_2022!D42&"."&PCC_MF_2022!E42&"."&PCC_MF_2022!F42&"."&PCC_MF_2022!G42,IF(PCC_MF_2022!F42<>"",PCC_MF_2022!D42&"."&PCC_MF_2022!E42&"."&PCC_MF_2022!F42,IF(PCC_MF_2022!E42<>"",PCC_MF_2022!D42&"."&PCC_MF_2022!E42,IF(PCC_MF_2022!D42="",LEFT(#REF!,1),PCC_MF_2022!D42)))))) -> 02.3.1.1 | C42: =IF(PCC_MF_2022!I42<>"",PCC_MF_2022!D42&""&PCC_MF_2022!E42&""&PCC_MF_2022!F42&""&PCC_MF_2022!G42&""&PCC_MF_2022!H42&""&PCC_MF_2022!I42,IF(PCC_MF_2022!H42<>"",PCC_MF_2022!D42&""&PCC_MF_2022!E42&""&PCC_MF_2022!F42&""&PCC_MF_2022!G42&""&PCC_MF_2022!H42, IF(PCC_MF_2022!G42<>"",PCC_MF_2022!D42&""&PCC_MF_2022!E42&""&PCC_MF_2022!F42&""&PCC_MF_2022!G42,IF(PCC_MF_2022!F42<>"",PCC_MF_2022!D42&""&PCC_MF_2022!E42&""&PCC_MF_2022!F42,IF(PCC_MF_2022!E42<>"",PCC_MF_2022!D42&""&PCC_MF_2022!E42,IF(PCC_MF_2022!D42="",LEFT(#REF!,1),PCC_MF_2022!D42)))))) -> 02311 | D42: 02 | E42: 3 | F42: 1 | G42: 1 | J42: Reforços em dotações corrigidas | K42: M
...

Sheet Tabela_Contas_Rubr BLC
B2: Mapeamento das contas do Plano de Contas Central do Ministério das Finanças para as rubricas do balanço
B4: Rubricas | D4: Código de contas
B5: Código | C5: Ativo não corrente
B6: B01 | C6: Ativos fixos tangíveis | D6: 43 + 453 + 4553 - 4593 - 45953
B7: B02 | C7: Propriedades de investimento | D7: 42 + 452 + 4552 - 4592 - 45952
B8: B03 | C8: Ativos intangíveis | D8: 44 + 454 + 4554 - 4594 - 45954
B9: B04 | C9: Ativos biológicos | D9: 372 - 378 - 3792 + 3922 - 39922
B10: B05 | C10: Participações financeiras | D10: 4111 + 4112 + 4121 + 4122 + 4131 + 4132 + 4141 + 4511 + 45511 - 418 - 4191 - 45911 - 459511
B11: B06 | C11: Devedores por empréstimos bonificados e subsídios reembolsáveis | D11: 20322 - 20922
B12: B54 | C12: Clientes, contribuintes e utentes | D12: 2112 + 21312 + 21322 + 21332 + 21342 + 21392 + 21412 + 21422 + 21492 + 21612 +21622 + 21632 - 21912 - 21922 - 21932
B13: B07 | C13: Acionistas/sócios/associados | D13: 26622 + 268122 - 269422 - 269922
B14: B08 | C14: Diferimentos | D14: 28112 + 28192
B15: B09 | C15: Outros ativos financeiros | D15: 278622 - 27953 + 4113 + 4123 + 4133 + 4142 + 415 - 4192 - 4193 + 4512 + 45512 - 45912 - 459512
B16: B10 | C16: Ativos por impostos diferidos | D16: 2741
B17: B56 | C17: Outras contas a receber | D17: 27012 + 27812 + 27822 + 2789112 + 2789192 - 27912 - 27932 - 27942 - 27992
B19: Código | C19: Ativo corrente | D19: Código de contas
B20: B11 | C20: Inventários | D20: 30 + 32 + 33 + 34 + 35 + 36 + 391 - 3991
B21: B12 | C21: Ativos biológicos | D21: 371 - 3791 + 3921- 39921
B22: B13 | C22: Devedores por transferências e subsídios não reembolsáveis | D22: 201 + 205
B23: B14 | C23: Devedores por empréstimos bonificados e subsídios reembolsáveis | D23: 2031 + 20321 - 2091 - 20921
B24: B15 | C24: Clientes, contribuintes e utentes | D24: 2111 + 212 + 21311 + 21321 + 21331 + 21341 + 21391 + 21411 + 21421 + 21491 + 215 + 21611 + 21621 + 21631 - 21911 - 21921 - 21931
B25: B16 | C25: =$C$62 -> Estado e outros entes públicos | D25: 2411 + 2412 + 2413 + 2418 + 24192 + 2432 + 24341 +243491 + 2437 + 2438 + 24391
B26: B17 | C26: Acionistas/sócios/associados | D26: 261 + 262 + 263 + 2642 + 2661 + 26621 + 26811 + 268121 - 2691 - 2692 - 2693 - 26941 - 269421 - 26991 - 269921- 2695
B27: B18 | C27: Outras contas a receber | D27: 2081 + 228 + 232 + 23802 + 23812 +23822 + 27011 + 2713 + 2720 + 2721+ 2772 + 27811 + 27821 + 2789111 + 2789191 - 229 - 239 - 27911 - 2792 - 27931 - 27941 - 27991- 2796
B28: B19 | C28: Diferimentos | D28: 28111 + 28191
B29: B20 | C29: Ativos financeiros detidos para negociação | D29: 1411 + 1421 + 1422 + 1423 + 14291
B30: B21 | C30: Outros ativos financeiros | D30: 1431 - 149 + 27861 + 278621 - 27951 - 27952
B31: B22 | C31: Ativos não correntes detidos para venda | D31: 461+ 468 - 4691 - 4698
B32: B23 | C32: Caixa e depósitos | D32: 11 + 12 + 13
B34: Código | C34: Património Líquido | D34: Código de contas
B35: B24 | C35: Património/Capital | D35: 51
B36: B25 | C36: Ações (quotas) próprias | D36: 52
B37: B26 | C37: Outros instrumentos de capital próprio | D37: 53
B38: B27 | C38: Prémios de emissão | D38: 54
B39: B28 | C39: Reservas | D39: 55
B40: B29 | C40: Resultados transitados | D40: 56
B41: B30 | C41: Ajustamentos em ativos financeiros | D41: 57
B42: B31 | C42: Excedentes de revalorização | D42: 58
B43: B32 | C43: Outras variações no património líquido | D43: 59
B44: B33 | C44: Resultado líquido do período | D44: 818
...

Sheet Tabela_Contas_Rubr DR
B2: Mapeamento das contas do Plano de Contas Central do MF para as rubricas da demonstração dos resultados
B4: Rubricas | D4: Código de contas
B5: Código | C5: Designação
B6: DR01 | C6: Impostos, contribuições e taxas | D6: 70
B7: DR02 | C7: Vendas | D7: 71
B8: DR03 | C8: Prestações de serviços e concessões | D8: 72
B9: DR04 | C9: Transferências e subsídios correntes obtidos | D9: 75
B10: DR05 | C10: Rendimentos/Gastos imputados de entidades controladas, associadas e empreendimentos conjuntos | D10: 785 + 7921 - 685
B11: DR06 | C11: Variações nos inventários da produção | D11: 73
B12: DR07 | C12: Trabalhos para a própria entidade | D12: 74
B13: DR08 | C13: Custo das mercadorias vendidas, das matérias consumidas e dos inventários transferidos | D13: 61
B14: DR09 | C14: Fornecimentos e serviços externos | D14: 62
B15: DR10 | C15: Gastos com pessoal | D15: 63
B16: DR11 | C16: Transferências e subsídios concedidos | D16: 60 (exceto 603)
B17: DR12 | C17: Prestações sociais | D17: 603
... B29: DR24 | C29: Imposto sobre o rendimento | D29: 812
